BEGIN:VCALENDAR
VERSION:2.0
PRODID:icalendar-ruby
CALSCALE:GREGORIAN
METHOD:PUBLISH
BEGIN:VEVENT
DTSTAMP:20260422T154306Z
UID:184-4008687@ourlord.ca
DTSTART:20260922T170000Z
DTEND:20260922T180000Z
CLASS:PUBLIC
CREATED:20260422T062601
DESCRIPTION:Tuesday Prayer meeting
LAST-MODIFIED:20260422T062601
LOCATION:Upstairs boardroom
SUMMARY:Tuesday Prayer meeting
URL;VALUE=URI:https://www.ourlord.ca/events/tuesday-prayer-meeting/2026-09-
 22
END:VEVENT
END:VCALENDAR
