BEGIN:VCALENDAR
VERSION:2.0
PRODID:icalendar-ruby
CALSCALE:GREGORIAN
METHOD:PUBLISH
BEGIN:VEVENT
DTSTAMP:20260422T171643Z
UID:184-4010821@ourlord.ca
DTSTART:20260929T170000Z
DTEND:20260929T180000Z
CLASS:PUBLIC
CREATED:20260422T092121
DESCRIPTION:Tuesday Prayer meeting
LAST-MODIFIED:20260422T092121
LOCATION:Upstairs boardroom
SUMMARY:Tuesday Prayer meeting
URL;VALUE=URI:https://www.ourlord.ca/events/tuesday-prayer-meeting/2026-09-
 29
END:VEVENT
END:VCALENDAR
