BEGIN:VCALENDAR
VERSION:2.0
PRODID:icalendar-ruby
CALSCALE:GREGORIAN
METHOD:PUBLISH
BEGIN:VEVENT
DTSTAMP:20260422T185823Z
UID:184-4010822@ourlord.ca
DTSTART:20261006T170000Z
DTEND:20261006T180000Z
CLASS:PUBLIC
CREATED:20260422T092121
DESCRIPTION:Tuesday Prayer meeting
LAST-MODIFIED:20260422T092121
LOCATION:Upstairs boardroom
SUMMARY:Tuesday Prayer meeting
URL;VALUE=URI:https://www.ourlord.ca/events/tuesday-prayer-meeting/2026-10-
 06
END:VEVENT
END:VCALENDAR
