BEGIN:VCALENDAR
VERSION:2.0
PRODID:icalendar-ruby
CALSCALE:GREGORIAN
METHOD:PUBLISH
BEGIN:VEVENT
DTSTAMP:20260422T205600Z
UID:184-4012956@ourlord.ca
DTSTART:20261013T170000Z
DTEND:20261013T180000Z
CLASS:PUBLIC
CREATED:20260422T121608
DESCRIPTION:Tuesday Prayer meeting
LAST-MODIFIED:20260422T121608
LOCATION:Upstairs boardroom
SUMMARY:Tuesday Prayer meeting
URL;VALUE=URI:https://www.ourlord.ca/events/tuesday-prayer-meeting/2026-10-
 13
END:VEVENT
END:VCALENDAR
