BEGIN:VCALENDAR
VERSION:2.0
PRODID:icalendar-ruby
CALSCALE:GREGORIAN
METHOD:PUBLISH
BEGIN:VEVENT
DTSTAMP:20260422T224111Z
UID:184-4015090@ourlord.ca
DTSTART:20261020T170000Z
DTEND:20261020T180000Z
CLASS:PUBLIC
CREATED:20260422T151040
DESCRIPTION:Tuesday Prayer meeting
LAST-MODIFIED:20260422T151040
LOCATION:Upstairs boardroom
SUMMARY:Tuesday Prayer meeting
URL;VALUE=URI:https://www.ourlord.ca/events/tuesday-prayer-meeting/2026-10-
 20
END:VEVENT
END:VCALENDAR
