BEGIN:VCALENDAR
VERSION:2.0
PRODID:icalendar-ruby
CALSCALE:GREGORIAN
METHOD:PUBLISH
BEGIN:VEVENT
DTSTAMP:20260423T020657Z
UID:184-4017225@ourlord.ca
DTSTART:20261103T180000Z
DTEND:20261103T190000Z
CLASS:PUBLIC
CREATED:20260422T180224
DESCRIPTION:Tuesday Prayer meeting
LAST-MODIFIED:20260422T180224
LOCATION:Upstairs boardroom
SUMMARY:Tuesday Prayer meeting
URL;VALUE=URI:https://www.ourlord.ca/events/tuesday-prayer-meeting/2026-11-
 03
END:VEVENT
END:VCALENDAR
